View In:
ArcMap
ArcGIS Explorer
ArcGIS JavaScript
Google Earth
View Footprint In:
Google Earth
Service Description: This service provides land information for the metropolitan area of Portland, Oregon, including tax lots, buildings, and zoning designations. This service is in the WGS84 projection (4326) and is cached to match the ArcGIS Online tiling scheme. Use this service to display tiles on top of ArcGIS Online data in a web application.
Map Name: Portland
Layers:
Description: This service provides land information for the metropolitan area of Portland, Oregon, including tax lots, buildings (Portland only), and zoning designations. This service is in the WGS84 projection (4326) and is cached to match the ArcGIS Online tiling scheme. Use this service to display tiles on top of ArcGIS Online data in a web application.
Copyright Text: (c) Taxlots, Zoning: Oregon METRO - Regional Land Information System (RLIS): http://www.oregonmetro.gov/index.cfm/go/by.web/id=24888; Buildings: City of Portland, OR – Planning Bureau
Spatial Reference: 4326
Single Fused Map Cache: true
Tile Info:
- Height: 512
- Width: 512
- DPI: 96
- Levels of Detail: (# Levels: 16)
-
Level ID: 0
[Start Tile,
End Tile]
Resolution: 0.351562499999999
Scale: 147748799.285417
-
Level ID: 1
[Start Tile,
End Tile]
Resolution: 0.17578125
Scale: 73874399.6427087
-
Level ID: 2
[Start Tile,
End Tile]
Resolution: 0.0878906250000001
Scale: 36937199.8213544
-
Level ID: 3
[Start Tile,
End Tile]
Resolution: 0.0439453125
Scale: 18468599.9106772
-
Level ID: 4
[Start Tile,
End Tile]
Resolution: 0.02197265625
Scale: 9234299.95533859
-
Level ID: 5
[Start Tile,
End Tile]
Resolution: 0.010986328125
Scale: 4617149.97766929
-
Level ID: 6
[Start Tile,
End Tile]
Resolution: 0.0054931640625
Scale: 2308574.98883465
-
Level ID: 7
[Start Tile,
End Tile]
Resolution: 0.00274658203124999
Scale: 1154287.49441732
-
Level ID: 8
[Start Tile,
End Tile]
Resolution: 0.001373291015625
Scale: 577143.747208662
-
Level ID: 9
[Start Tile,
End Tile]
Resolution: 0.0006866455078125
Scale: 288571.873604331
-
Level ID: 10
[Start Tile,
End Tile]
Resolution: 0.000343322753906249
Scale: 144285.936802165
-
Level ID: 11
[Start Tile,
End Tile]
Resolution: 0.000171661376953125
Scale: 72142.9684010827
-
Level ID: 12
[Start Tile,
End Tile]
Resolution: 8.58306884765626E-05
Scale: 36071.4842005414
-
Level ID: 13
[Start Tile,
End Tile]
Resolution: 4.29153442382813E-05
Scale: 18035.7421002707
-
Level ID: 14
[Start Tile,
End Tile]
Resolution: 2.14576721191406E-05
Scale: 9017.87105013534
-
Level ID: 15
[Start Tile,
End Tile]
Resolution: 1.07288360595703E-05
Scale: 4508.93552506767
- Format: PNG32
- Compression Quality: 0
-
Origin:
- Spatial Reference: 4326
Intial Extent:
XMin: -124.543680065238
YMin: 44.1390301258691
XMax: -120.606972191006
YMax: 46.5268693282718
Spatial Reference: 4326
Full Extent:
XMin: -123.596895130833
YMin: 44.8091202495904
XMax: -121.553757125412
YMax: 45.8567792045506
Spatial Reference: 4326
Units: esriDecimalDegrees
Document Info:
- Title:
- Author:
- Comments:
- Subject:
- Category:
- Keywords:
Supported Interfaces:
REST
SOAP
Supported Operations:
Export Map
Identify
Find
Generate KML