View In:
ArcMap
ArcGIS Explorer
ArcGIS JavaScript
Google Earth
View Footprint In:
Google Earth
Service Description: This map service optimized for use in a web-based COP. The emphasis is on features that will provide a context for public safety operational layers.
Map Name: Louisville Basemap
Layers:
Description: This map document is optimized for use in a web-based COP. The emphasis is on features that will provide a context for public safety operational layers. This map can be used at multiple scales and content has been optimized for use at community, neighborhood, block and parcel levels.
Copyright Text: Copyright© 2008, MSD, PVA, Louisville Water Company, Louisville Metro Government
Spatial Reference: 4326
Single Fused Map Cache: true
Tile Info:
- Height: 512
- Width: 512
- DPI: 96
- Levels of Detail: (# Levels: 17)
-
Level ID: 0
[Start Tile,
End Tile]
Resolution: 0.043945313319737
Scale: 18468599.9106772
-
Level ID: 1
[Start Tile,
End Tile]
Resolution: 0.0219726566598685
Scale: 9234299.95533859
-
Level ID: 2
[Start Tile,
End Tile]
Resolution: 0.0109863283299342
Scale: 4617149.97766929
-
Level ID: 3
[Start Tile,
End Tile]
Resolution: 0.00549316416496712
Scale: 2308574.98883465
-
Level ID: 4
[Start Tile,
End Tile]
Resolution: 0.00274658208248355
Scale: 1154287.49441732
-
Level ID: 5
[Start Tile,
End Tile]
Resolution: 0.00137329104124178
Scale: 577143.747208662
-
Level ID: 6
[Start Tile,
End Tile]
Resolution: 0.00068664552062089
Scale: 288571.873604331
-
Level ID: 7
[Start Tile,
End Tile]
Resolution: 0.000343322760310444
Scale: 144285.936802165
-
Level ID: 8
[Start Tile,
End Tile]
Resolution: 0.000171661380155222
Scale: 72142.9684010827
-
Level ID: 9
[Start Tile,
End Tile]
Resolution: 8.58306900776113E-05
Scale: 36071.4842005414
-
Level ID: 10
[Start Tile,
End Tile]
Resolution: 4.29153450388056E-05
Scale: 18035.7421002707
-
Level ID: 11
[Start Tile,
End Tile]
Resolution: 2.14576725194028E-05
Scale: 9017.87105013534
-
Level ID: 12
[Start Tile,
End Tile]
Resolution: 1.07288362597014E-05
Scale: 4508.93552506767
-
Level ID: 13
[Start Tile,
End Tile]
Resolution: 5.71070641399267E-06
Scale: 2400
-
Level ID: 14
[Start Tile,
End Tile]
Resolution: 3.80713760932845E-06
Scale: 1600
-
Level ID: 15
[Start Tile,
End Tile]
Resolution: 2.85535320699634E-06
Scale: 1200
-
Level ID: 16
[Start Tile,
End Tile]
Resolution: 1.42767660349817E-06
Scale: 600
- Format: JPEG
- Compression Quality: 90
-
Origin:
- Spatial Reference: 4326
Intial Extent:
XMin: -86.0563489132057
YMin: 37.9815029445673
XMax: -85.2977420573133
YMax: 38.4294278674302
Spatial Reference: 4326
Full Extent:
XMin: -85.9607077551927
YMin: 37.9858889640817
XMax: -85.3853191603571
YMax: 38.3936856969578
Spatial Reference: 4326
Units: esriDecimalDegrees
Supported Image Format Types: PNG24,PNG,JPG,DIB,TIFF,EMF,PS,PDF,GIF,SVG,SVGZ,AI
Document Info:
- Title: Louisville Basemap
- Author: ESRI
- Comments: This map document is optimized for use in a web-based COP. The emphasis is on features that will provide a context for public safety operational layers. This map can be used at multiple scales and content has been optimized for use at community, neighborhood, block and parcel levels.
- Subject:
- Category:
- Keywords:
Supported Interfaces:
REST
SOAP
Supported Operations:
Export Map
Identify
Find