View In:
ArcMap
ArcGIS Explorer
ArcGIS JavaScript
Google Earth
View Footprint In:
Google Earth
Service Description: This sample service is used to provide an operational context with the Value Analysis Dashboard. The colors within this basemap have been muted intentionally because several overlays will be added to the base map. This map will be used primarily at the neighborhood and parcel scales. Geospatial data contained in this map service is provided by Bloomfield Township GIS, Bloomfield Township, MI.
Map Name: Layers
Layers:
Description: The assessor's base map is used to provide an operational context with the Value Analysis Dashboard. The colors within this basemap have been muted intentionally because several overlays will be added to the base map. This map will be used primarily at the neighborhood and parcel scales. Geospatial data contained in this map service is provided by Bloomfield Township GIS, Bloomfield Township, MI.
Copyright Text: Source: Bloomfield Township GIS, Bloomfield Township, MI
Spatial Reference: 4326
Single Fused Map Cache: true
Tile Info:
- Height: 512
- Width: 512
- DPI: 96
- Levels of Detail: (# Levels: 10)
-
Level ID: 0
[Start Tile,
End Tile]
Resolution: 0.000297432625728785
Scale: 125000
-
Level ID: 1
[Start Tile,
End Tile]
Resolution: 0.000152285504373138
Scale: 64000
-
Level ID: 2
[Start Tile,
End Tile]
Resolution: 7.61427521865689E-05
Scale: 32000
-
Level ID: 3
[Start Tile,
End Tile]
Resolution: 3.80713760932845E-05
Scale: 16000
-
Level ID: 4
[Start Tile,
End Tile]
Resolution: 1.90333085856364E-05
Scale: 7999
-
Level ID: 5
[Start Tile,
End Tile]
Resolution: 9.51546456231529E-06
Scale: 3999
-
Level ID: 6
[Start Tile,
End Tile]
Resolution: 4.75892201166056E-06
Scale: 2000
-
Level ID: 7
[Start Tile,
End Tile]
Resolution: 2.37946100583028E-06
Scale: 1000
-
Level ID: 8
[Start Tile,
End Tile]
Resolution: 1.78459575437271E-06
Scale: 750
-
Level ID: 9
[Start Tile,
End Tile]
Resolution: 1.18973050291514E-06
Scale: 500
- Format: JPEG
- Compression Quality: 90
-
Origin:
- Spatial Reference: 4326
Intial Extent:
XMin: -83.3136869761022
YMin: 42.5582940153983
XMax: -83.3023705323607
YMax: 42.567140133583
Spatial Reference: 4326
Full Extent:
XMin: -83.3770978320226
YMin: 42.5233499710321
XMax: -83.1508852249313
YMax: 42.6258987240452
Spatial Reference: 4326
Units: esriDecimalDegrees
Supported Image Format Types: PNG24,PNG,JPG,DIB,TIFF,EMF,PS,PDF,GIF,SVG,SVGZ,AI
Document Info:
- Title: Assessor's Basemap
- Author: ESRI
- Comments:
- Subject:
- Category:
- Keywords:
Supported Interfaces:
REST
SOAP
Supported Operations:
Export Map
Identify
Find
Generate KML