View In:
ArcMap
ArcGIS Explorer
ArcGIS JavaScript
Google Earth
View Footprint In:
Google Earth
Service Description: Geospatial data contained in this map service is provided by Bloomfield Township GIS, Bloomfield Township, MI.
Map Name: Layers
Layers:
Description: Geospatial data contained in this map service is provided by Bloomfield Township GIS, Bloomfield Township, MI.
Copyright Text: Source: Bloomfield Township GIS, Bloomfield Township, MI
Spatial Reference: PROJCS["NAD_1983_StatePlane_Michigan_South_FIPS_2113_IntlFeet",GEOGCS["GCS_North_American_1983",DATUM["D_North_American_1983",SPHEROID["GRS_1980",6378137.0,298.257222101]],PRIMEM["Greenwich",0.0],UNIT["Degree",0.0174532925199433]],PROJECTION["Lambert_Conformal_Conic"],PARAMETER["False_Easting",13123359.58005249],PARAMETER["False_Northing",0.0],PARAMETER["Central_Meridian",-84.36666666666666],PARAMETER["Standard_Parallel_1",42.1],PARAMETER["Standard_Parallel_2",43.66666666666666],PARAMETER["Latitude_Of_Origin",41.5],UNIT["Foot",0.3048]]
Single Fused Map Cache: true
Tile Info:
- Height: 512
- Width: 512
- DPI: 96
- Levels of Detail: (# Levels: 10)
-
Level ID: 0
[Start Tile,
End Tile]
Resolution: 108.507161458767
Scale: 125000
-
Level ID: 1
[Start Tile,
End Tile]
Resolution: 55.5556666668889
Scale: 64000
-
Level ID: 2
[Start Tile,
End Tile]
Resolution: 27.7778333334444
Scale: 32000
-
Level ID: 3
[Start Tile,
End Tile]
Resolution: 13.8889166667222
Scale: 16000
-
Level ID: 4
[Start Tile,
End Tile]
Resolution: 6.94359027606944
Scale: 7999
-
Level ID: 5
[Start Tile,
End Tile]
Resolution: 3.47222916668056
Scale: 4000
-
Level ID: 6
[Start Tile,
End Tile]
Resolution: 1.73611458334028
Scale: 2000
-
Level ID: 7
[Start Tile,
End Tile]
Resolution: 0.868057291670139
Scale: 1000
-
Level ID: 8
[Start Tile,
End Tile]
Resolution: 0.651042968752604
Scale: 750
-
Level ID: 9
[Start Tile,
End Tile]
Resolution: 0.434028645835069
Scale: 500
- Format: JPEG
- Compression Quality: 90
-
Origin:
X: -107138600
Y: 143330100
- Spatial Reference: PROJCS["NAD_1983_StatePlane_Michigan_South_FIPS_2113_IntlFeet",GEOGCS["GCS_North_American_1983",DATUM["D_North_American_1983",SPHEROID["GRS_1980",6378137.0,298.257222101]],PRIMEM["Greenwich",0.0],UNIT["Degree",0.0174532925199433]],PROJECTION["Lambert_Conformal_Conic"],PARAMETER["False_Easting",13123359.58005249],PARAMETER["False_Northing",0.0],PARAMETER["Central_Meridian",-84.36666666666666],PARAMETER["Standard_Parallel_1",42.1],PARAMETER["Standard_Parallel_2",43.66666666666666],PARAMETER["Latitude_Of_Origin",41.5],UNIT["Foot",0.3048]]
Intial Extent:
XMin: 13390093.9685504
YMin: 375295.187879043
XMax: 13450548.0730239
YMax: 411877.671611727
Spatial Reference: PROJCS["NAD_1983_StatePlane_Michigan_South_FIPS_2113_IntlFeet",GEOGCS["GCS_North_American_1983",DATUM["D_North_American_1983",SPHEROID["GRS_1980",6378137.0,298.257222101]],PRIMEM["Greenwich",0.0],UNIT["Degree",0.0174532925199433]],PROJECTION["Lambert_Conformal_Conic"],PARAMETER["False_Easting",13123359.58005249],PARAMETER["False_Northing",0.0],PARAMETER["Central_Meridian",-84.36666666666666],PARAMETER["Standard_Parallel_1",42.1],PARAMETER["Standard_Parallel_2",43.66666666666666],PARAMETER["Latitude_Of_Origin",41.5],UNIT["Foot",0.3048]]
Full Extent:
XMin: 13390093.9685504
YMin: 375295.187879043
XMax: 13450548.0730239
YMax: 411877.671611727
Spatial Reference: PROJCS["NAD_1983_StatePlane_Michigan_South_FIPS_2113_IntlFeet",GEOGCS["GCS_North_American_1983",DATUM["D_North_American_1983",SPHEROID["GRS_1980",6378137.0,298.257222101]],PRIMEM["Greenwich",0.0],UNIT["Degree",0.0174532925199433]],PROJECTION["Lambert_Conformal_Conic"],PARAMETER["False_Easting",13123359.58005249],PARAMETER["False_Northing",0.0],PARAMETER["Central_Meridian",-84.36666666666666],PARAMETER["Standard_Parallel_1",42.1],PARAMETER["Standard_Parallel_2",43.66666666666666],PARAMETER["Latitude_Of_Origin",41.5],UNIT["Foot",0.3048]]
Units: esriFeet
Supported Image Format Types: PNG24,PNG,JPG,DIB,TIFF,EMF,PS,PDF,GIF,SVG,SVGZ,AI
Document Info:
- Title:
- Author:
- Comments:
- Subject:
- Category:
- Keywords:
Supported Interfaces:
REST
SOAP
Supported Operations:
Export Map
Identify
Find