View In:
ArcMap
ArcGIS Explorer
ArcGIS JavaScript
Google Earth
View Footprint In:
Google Earth
Service Description: Contains the local government land base basemap using the cartography best practices. It's a cached map service so the group layers reflect the caching scale levels suggested in the caching documentation.
Map Name: Layers
Layers:
Description:
Copyright Text:
Spatial Reference: 4326
Single Fused Map Cache: true
Tile Info:
- Height: 512
- Width: 512
- DPI: 96
- Levels of Detail: (# Levels: 13)
-
Level ID: 0
[Start Tile,
End Tile]
Resolution: 0.0006866455078125
Scale: 288571.873604331
-
Level ID: 1
[Start Tile,
End Tile]
Resolution: 0.000343322753906249
Scale: 144285.936802165
-
Level ID: 2
[Start Tile,
End Tile]
Resolution: 0.000171661376953125
Scale: 72142.9684010827
-
Level ID: 3
[Start Tile,
End Tile]
Resolution: 8.58306884765626E-05
Scale: 36071.4842005414
-
Level ID: 4
[Start Tile,
End Tile]
Resolution: 4.29153442382813E-05
Scale: 18035.7421002707
-
Level ID: 5
[Start Tile,
End Tile]
Resolution: 2.14576721191406E-05
Scale: 9017.87105013534
-
Level ID: 6
[Start Tile,
End Tile]
Resolution: 1.07288360595703E-05
Scale: 4508.93552506767
-
Level ID: 7
[Start Tile,
End Tile]
Resolution: 5.71070630746761E-06
Scale: 2400
-
Level ID: 8
[Start Tile,
End Tile]
Resolution: 3.80713753831174E-06
Scale: 1600
-
Level ID: 9
[Start Tile,
End Tile]
Resolution: 2.85535315373381E-06
Scale: 1200
-
Level ID: 10
[Start Tile,
End Tile]
Resolution: 1.90356876915587E-06
Scale: 800
-
Level ID: 11
[Start Tile,
End Tile]
Resolution: 9.51784384577936E-07
Scale: 400
-
Level ID: 12
[Start Tile,
End Tile]
Resolution: 4.75892192288968E-07
Scale: 200
- Format: JPEG
- Compression Quality: 90
-
Origin:
- Spatial Reference: 4326
Intial Extent:
XMin: -80.4548192666999
YMin: 27.3643085606086
XMax: -80.2088020389742
YMax: 27.5142146011796
Spatial Reference: 4326
Full Extent:
XMin: -80.8425805616636
YMin: 27.0967084353648
XMax: -80.076673865487
YMax: 27.7826105296567
Spatial Reference: 4326
Units: esriDecimalDegrees
Supported Image Format Types: PNG24,PNG,JPG,DIB,TIFF,EMF,PS,PDF,GIF,SVG,SVGZ,AI
Document Info:
- Title: LocalGovernmentInfrastructureBasemap
- Author: siteadmin
- Comments:
- Subject:
- Category:
- Keywords:
Supported Interfaces:
REST
SOAP
Supported Operations:
Export Map
Identify
Find